BEGIN:VCALENDAR
VERSION:2.0
PRODID:-//Kansas Suicide Prevention Coalition - ECPv6.15.11//NONSGML v1.0//EN
CALSCALE:GREGORIAN
METHOD:PUBLISH
X-ORIGINAL-URL:https://kansassuicidepreventioncoalition.org
X-WR-CALDESC:Events for Kansas Suicide Prevention Coalition
REFRESH-INTERVAL;VALUE=DURATION:PT1H
X-Robots-Tag:noindex
X-PUBLISHED-TTL:PT1H
BEGIN:VTIMEZONE
TZID:America/Chicago
BEGIN:DAYLIGHT
TZOFFSETFROM:-0600
TZOFFSETTO:-0500
TZNAME:CDT
DTSTART:20240310T080000
END:DAYLIGHT
BEGIN:STANDARD
TZOFFSETFROM:-0500
TZOFFSETTO:-0600
TZNAME:CST
DTSTART:20241103T070000
END:STANDARD
BEGIN:DAYLIGHT
TZOFFSETFROM:-0600
TZOFFSETTO:-0500
TZNAME:CDT
DTSTART:20250309T080000
END:DAYLIGHT
BEGIN:STANDARD
TZOFFSETFROM:-0500
TZOFFSETTO:-0600
TZNAME:CST
DTSTART:20251102T070000
END:STANDARD
BEGIN:DAYLIGHT
TZOFFSETFROM:-0600
TZOFFSETTO:-0500
TZNAME:CDT
DTSTART:20260308T080000
END:DAYLIGHT
BEGIN:STANDARD
TZOFFSETFROM:-0500
TZOFFSETTO:-0600
TZNAME:CST
DTSTART:20261101T070000
END:STANDARD
END:VTIMEZONE
BEGIN:VEVENT
DTSTART;VALUE=DATE:20250905
DTEND;VALUE=DATE:20250915
DTSTAMP:20260420T132203
CREATED:20250814T181402Z
LAST-MODIFIED:20250814T181402Z
UID:33051-1757030400-1757894399@kansassuicidepreventioncoalition.org
SUMMARY:Kansas Prevention Suicide Coalition at the Kansas State Fair
DESCRIPTION:Come visit us in the Meadowlark Building!
URL:https://kansassuicidepreventioncoalition.org/event/kansas-prevention-suicide-coalition-at-the-kansas-state-fair/
LOCATION:Kansas State Fair\, 2000 N. Poplar Street\, Hutchinson\, KS\, 67502\, United States
END:VEVENT
BEGIN:VEVENT
DTSTART;TZID=America/Chicago:20250906T080000
DTEND;TZID=America/Chicago:20250906T170000
DTSTAMP:20260420T132203
CREATED:20250826T193110Z
LAST-MODIFIED:20250826T193110Z
UID:33100-1757145600-1757178000@kansassuicidepreventioncoalition.org
SUMMARY:Reno County Suicide Prevention Reflection Walk
DESCRIPTION:
URL:https://kansassuicidepreventioncoalition.org/event/reno-county-suicide-prevention-reflection-walk/
LOCATION:Dillon Nature Center
END:VEVENT
BEGIN:VEVENT
DTSTART;TZID=America/Chicago:20250908T150000
DTEND;TZID=America/Chicago:20250908T160000
DTSTAMP:20260420T132203
CREATED:20250814T173547Z
LAST-MODIFIED:20250814T173547Z
UID:33007-1757343600-1757347200@kansassuicidepreventioncoalition.org
SUMMARY:Systems of Care Subcommittee
DESCRIPTION:All are welcome! Join using the Zoom link: https://us02web.zoom.us/j/85705195683
URL:https://kansassuicidepreventioncoalition.org/event/community-engagement-subcommittee-4-2/
END:VEVENT
BEGIN:VEVENT
DTSTART;TZID=America/Chicago:20250909T150000
DTEND;TZID=America/Chicago:20250909T160000
DTSTAMP:20260420T132203
CREATED:20250814T173015Z
LAST-MODIFIED:20250814T173148Z
UID:32999-1757430000-1757433600@kansassuicidepreventioncoalition.org
SUMMARY:Community Engagement Subcommittee
DESCRIPTION:All are welcome! Join using the Zoom link: https://us06web.zoom.us/j/83327990068?pwd=THNkNTcvamVwbXlsZGFxZVVSSndlZz09
URL:https://kansassuicidepreventioncoalition.org/event/community-engagement-subcommittee/
END:VEVENT
BEGIN:VEVENT
DTSTART;TZID=America/Chicago:20250909T150000
DTEND;TZID=America/Chicago:20250909T160000
DTSTAMP:20260420T132203
CREATED:20250814T174212Z
LAST-MODIFIED:20250814T174212Z
UID:33015-1757430000-1757433600@kansassuicidepreventioncoalition.org
SUMMARY:Resource Development Subcommittee
DESCRIPTION:All are welcome! Use the Zoom link to join: https://zoom.us/j/98779912766?pwd=iuvhnco8njkhSCaeaucdGmZP4INIqI.1
URL:https://kansassuicidepreventioncoalition.org/event/resource-development-subcommittee/
END:VEVENT
BEGIN:VEVENT
DTSTART;TZID=America/Chicago:20250911T150000
DTEND;TZID=America/Chicago:20250911T160000
DTSTAMP:20260420T132203
CREATED:20250814T174532Z
LAST-MODIFIED:20250814T174532Z
UID:33023-1757602800-1757606400@kansassuicidepreventioncoalition.org
SUMMARY:Surveillance\, Research\, and Evaluation Subcommittee
DESCRIPTION:All are welcome! Use the link to join via Microsoft Teams: Click here to join the meeting \nMicrosoft Teams meeting \nJoin on your computer\, mobile app or room device \nClick here to join the meeting \nMeeting ID: 285 517 140 930\nPasscode: qPDzT9 \nDownload Teams | Join on the web \nOr call in (audio only) \n+1 785-414-8630\,\,978896846#   United States\, Topeka \nPhone Conference ID: 978 896 846# \nFind a local number | Reset PIN \nLearn More | Meeting options
URL:https://kansassuicidepreventioncoalition.org/event/surveillance-research-and-evaluation-subcommittee/
END:VEVENT
BEGIN:VEVENT
DTSTART;TZID=America/Chicago:20250916T150000
DTEND;TZID=America/Chicago:20250916T160000
DTSTAMP:20260420T132203
CREATED:20250814T174912Z
LAST-MODIFIED:20250814T174912Z
UID:33033-1758034800-1758038400@kansassuicidepreventioncoalition.org
SUMMARY:Kansas Suicide Prevention Coalition Meeting
DESCRIPTION:All are welcome! Use the Zoom link to join: https://us02web.zoom.us/j/89691986533?pwd=uezuQra5gt0h6MLfkSdu5aMPwa2XZj.1
URL:https://kansassuicidepreventioncoalition.org/event/kansas-suicide-prevention-coalition-meeting-2-2/
END:VEVENT
BEGIN:VEVENT
DTSTART;TZID=America/Chicago:20250927T100000
DTEND;TZID=America/Chicago:20250927T120000
DTSTAMP:20260420T132203
CREATED:20250826T193357Z
LAST-MODIFIED:20250826T193357Z
UID:33104-1758967200-1758974400@kansassuicidepreventioncoalition.org
SUMMARY:Hope Fest
DESCRIPTION:Click the link below to see more details! \n  \nHope Fest 2025
URL:https://kansassuicidepreventioncoalition.org/event/hope-fest/
LOCATION:Rhatigan Student Center Courtyard\, Wichita State University
END:VEVENT
BEGIN:VEVENT
DTSTART;TZID=America/Chicago:20250927T180000
DTEND;TZID=America/Chicago:20250927T220000
DTSTAMP:20260420T132203
CREATED:20250826T192651Z
LAST-MODIFIED:20250826T192651Z
UID:33093-1758996000-1759010400@kansassuicidepreventioncoalition.org
SUMMARY:Silence Isn't Strength - Community Event
DESCRIPTION:Click below to see all of the details! \nDrake McCain
URL:https://kansassuicidepreventioncoalition.org/event/silence-isnt-strength-community-event/
LOCATION:400 E Orchard St. Elkhart\, KS\, 400 E Orchard St.\, Elkhart\, KS\, United States
END:VEVENT
END:VCALENDAR