BEGIN:VCALENDAR
VERSION:2.0
PRODID:-//Kansas Suicide Prevention Coalition - ECPv6.15.11//NONSGML v1.0//EN
CALSCALE:GREGORIAN
METHOD:PUBLISH
X-ORIGINAL-URL:https://kansassuicidepreventioncoalition.org
X-WR-CALDESC:Events for Kansas Suicide Prevention Coalition
REFRESH-INTERVAL;VALUE=DURATION:PT1H
X-Robots-Tag:noindex
X-PUBLISHED-TTL:PT1H
BEGIN:VTIMEZONE
TZID:America/Chicago
BEGIN:DAYLIGHT
TZOFFSETFROM:-0600
TZOFFSETTO:-0500
TZNAME:CDT
DTSTART:20240310T080000
END:DAYLIGHT
BEGIN:STANDARD
TZOFFSETFROM:-0500
TZOFFSETTO:-0600
TZNAME:CST
DTSTART:20241103T070000
END:STANDARD
BEGIN:DAYLIGHT
TZOFFSETFROM:-0600
TZOFFSETTO:-0500
TZNAME:CDT
DTSTART:20250309T080000
END:DAYLIGHT
BEGIN:STANDARD
TZOFFSETFROM:-0500
TZOFFSETTO:-0600
TZNAME:CST
DTSTART:20251102T070000
END:STANDARD
BEGIN:DAYLIGHT
TZOFFSETFROM:-0600
TZOFFSETTO:-0500
TZNAME:CDT
DTSTART:20260308T080000
END:DAYLIGHT
BEGIN:STANDARD
TZOFFSETFROM:-0500
TZOFFSETTO:-0600
TZNAME:CST
DTSTART:20261101T070000
END:STANDARD
END:VTIMEZONE
BEGIN:VEVENT
DTSTART;TZID=America/Chicago:20250220T130000
DTEND;TZID=America/Chicago:20250220T140000
DTSTAMP:20260420T044905
CREATED:20250217T224603Z
LAST-MODIFIED:20250217T224603Z
UID:32211-1740056400-1740060000@kansassuicidepreventioncoalition.org
SUMMARY:Resource Development Subcommittee Meeting
DESCRIPTION:Email Alexis McMillin to join.
URL:https://kansassuicidepreventioncoalition.org/event/resource-development-subcommittee-meeting-9/
CATEGORIES:Resource Development Subcommittee,Subcommittee Meetings
END:VEVENT
BEGIN:VEVENT
DTSTART;TZID=America/Chicago:20250221T140000
DTEND;TZID=America/Chicago:20250221T150000
DTSTAMP:20260420T044905
CREATED:20250217T225237Z
LAST-MODIFIED:20250217T225237Z
UID:32217-1740146400-1740150000@kansassuicidepreventioncoalition.org
SUMMARY:Surveillance\, Research and Evaluation Subcommittee Meeting
DESCRIPTION:Email Lauren Gracy if you’d like to join.
URL:https://kansassuicidepreventioncoalition.org/event/surveillance-research-and-evaluation-subcommittee-meeting/
CATEGORIES:SRE Subcommittee,Subcommittee Meetings
END:VEVENT
END:VCALENDAR