BEGIN:VCALENDAR
VERSION:2.0
PRODID:-//Kansas Suicide Prevention Coalition - ECPv6.15.11//NONSGML v1.0//EN
CALSCALE:GREGORIAN
METHOD:PUBLISH
X-WR-CALNAME:Kansas Suicide Prevention Coalition
X-ORIGINAL-URL:https://kansassuicidepreventioncoalition.org
X-WR-CALDESC:Events for Kansas Suicide Prevention Coalition
REFRESH-INTERVAL;VALUE=DURATION:PT1H
X-Robots-Tag:noindex
X-PUBLISHED-TTL:PT1H
BEGIN:VTIMEZONE
TZID:America/Chicago
BEGIN:DAYLIGHT
TZOFFSETFROM:-0600
TZOFFSETTO:-0500
TZNAME:CDT
DTSTART:20220313T080000
END:DAYLIGHT
BEGIN:STANDARD
TZOFFSETFROM:-0500
TZOFFSETTO:-0600
TZNAME:CST
DTSTART:20221106T070000
END:STANDARD
BEGIN:DAYLIGHT
TZOFFSETFROM:-0600
TZOFFSETTO:-0500
TZNAME:CDT
DTSTART:20230312T080000
END:DAYLIGHT
BEGIN:STANDARD
TZOFFSETFROM:-0500
TZOFFSETTO:-0600
TZNAME:CST
DTSTART:20231105T070000
END:STANDARD
BEGIN:DAYLIGHT
TZOFFSETFROM:-0600
TZOFFSETTO:-0500
TZNAME:CDT
DTSTART:20240310T080000
END:DAYLIGHT
BEGIN:STANDARD
TZOFFSETFROM:-0500
TZOFFSETTO:-0600
TZNAME:CST
DTSTART:20241103T070000
END:STANDARD
END:VTIMEZONE
BEGIN:VEVENT
DTSTART;TZID=America/Chicago:20231211T150000
DTEND;TZID=America/Chicago:20231211T160000
DTSTAMP:20260420T180833
CREATED:20231030T195923Z
LAST-MODIFIED:20231030T195923Z
UID:23636-1702306800-1702310400@kansassuicidepreventioncoalition.org
SUMMARY:Systems of Care Subcommittee Meeting
DESCRIPTION:
URL:https://kansassuicidepreventioncoalition.org/event/systems-of-care-subcommittee-meeting-3/
LOCATION:Zoom
ORGANIZER;CN="Kansas Suicide Prevention Coalition":MAILTO:coalition@hqkansas.org
END:VEVENT
BEGIN:VEVENT
DTSTART;TZID=America/Chicago:20231212T150000
DTEND;TZID=America/Chicago:20231212T160000
DTSTAMP:20260420T180833
CREATED:20231106T163036Z
LAST-MODIFIED:20231106T163036Z
UID:23649-1702393200-1702396800@kansassuicidepreventioncoalition.org
SUMMARY:Community Engagement Subcommittee Meeting
DESCRIPTION:
URL:https://kansassuicidepreventioncoalition.org/event/community-engagement-subcommittee-meeting-3/
LOCATION:Zoom
ORGANIZER;CN="Kansas Suicide Prevention Coalition":MAILTO:coalition@hqkansas.org
END:VEVENT
BEGIN:VEVENT
DTSTART;TZID=America/Chicago:20231214T110000
DTEND;TZID=America/Chicago:20231214T120000
DTSTAMP:20260420T180833
CREATED:20231030T200241Z
LAST-MODIFIED:20231030T200241Z
UID:23638-1702551600-1702555200@kansassuicidepreventioncoalition.org
SUMMARY:Annual Meeting Planning Committee Meeting
DESCRIPTION:
URL:https://kansassuicidepreventioncoalition.org/event/annual-meeting-planning-committee-meeting/
LOCATION:Zoom
ORGANIZER;CN="Kansas Suicide Prevention Coalition":MAILTO:coalition@hqkansas.org
END:VEVENT
BEGIN:VEVENT
DTSTART;TZID=America/Chicago:20231214T150000
DTEND;TZID=America/Chicago:20231214T160000
DTSTAMP:20260420T180833
CREATED:20231030T200350Z
LAST-MODIFIED:20231030T200350Z
UID:23640-1702566000-1702569600@kansassuicidepreventioncoalition.org
SUMMARY:Surveillance\, Research\, & Evaluation (SRE) Subcommittee Meeting
DESCRIPTION:
URL:https://kansassuicidepreventioncoalition.org/event/surveillance-research-evaluation-sre-subcommittee-meeting-3/
LOCATION:Zoom
ORGANIZER;CN="Kansas Suicide Prevention Coalition":MAILTO:coalition@hqkansas.org
END:VEVENT
END:VCALENDAR