BEGIN:VCALENDAR
VERSION:2.0
PRODID:-//Kansas Suicide Prevention Coalition - ECPv6.15.11//NONSGML v1.0//EN
CALSCALE:GREGORIAN
METHOD:PUBLISH
X-ORIGINAL-URL:https://kansassuicidepreventioncoalition.org
X-WR-CALDESC:Events for Kansas Suicide Prevention Coalition
REFRESH-INTERVAL;VALUE=DURATION:PT1H
X-Robots-Tag:noindex
X-PUBLISHED-TTL:PT1H
BEGIN:VTIMEZONE
TZID:America/Chicago
BEGIN:DAYLIGHT
TZOFFSETFROM:-0600
TZOFFSETTO:-0500
TZNAME:CDT
DTSTART:20230312T080000
END:DAYLIGHT
BEGIN:STANDARD
TZOFFSETFROM:-0500
TZOFFSETTO:-0600
TZNAME:CST
DTSTART:20231105T070000
END:STANDARD
BEGIN:DAYLIGHT
TZOFFSETFROM:-0600
TZOFFSETTO:-0500
TZNAME:CDT
DTSTART:20240310T080000
END:DAYLIGHT
BEGIN:STANDARD
TZOFFSETFROM:-0500
TZOFFSETTO:-0600
TZNAME:CST
DTSTART:20241103T070000
END:STANDARD
BEGIN:DAYLIGHT
TZOFFSETFROM:-0600
TZOFFSETTO:-0500
TZNAME:CDT
DTSTART:20250309T080000
END:DAYLIGHT
BEGIN:STANDARD
TZOFFSETFROM:-0500
TZOFFSETTO:-0600
TZNAME:CST
DTSTART:20251102T070000
END:STANDARD
END:VTIMEZONE
BEGIN:VEVENT
DTSTART;TZID=America/Chicago:20240627T080000
DTEND;TZID=America/Chicago:20240628T170000
DTSTAMP:20260422T002227
CREATED:20240522T191659Z
LAST-MODIFIED:20240603T214927Z
UID:26177-1719475200-1719594000@kansassuicidepreventioncoalition.org
SUMMARY:ASIST Training: Garden City
DESCRIPTION:About the Training \nASIST is a two-day interactive workshop in suicide first-aid. ASIST teaches participants to recognize when someone may be at risk of suicide and work with them to create a plan that will support their immediate safety. Although ASIST is widely used by healthcare providers\, participants don’t need any formal training to attend the workshop—ASIST can be learned and used by anyone. \nGoals & Objectives \n\nUnderstand the ways personal and societal attitudes affect views on suicide and interventions.\nProvide guidance and suicide first-aid to a person at risk in ways that meet their individual safety needs.\nIdentify the key elements of an effective suicide safety plan and the actions required to implement it.\nAppreciate the value of improving and integrating suicide prevention resources in the community at large.\nRecognize other important aspects of suicide prevention including life-promotion and self-care.
URL:https://kansassuicidepreventioncoalition.org/event/asist-training-garden-city/
LOCATION:Garden City Hospital\, 401 E Spruce St\, Garden City\, KS\, 67846\, United States
CATEGORIES:ASIST Training,Education & Training
ATTACH;FMTTYPE=image/jpeg:https://kansassuicidepreventioncoalition.org/wp-content/uploads/2024/05/ASIST-Garden-City-2024.jpg
ORGANIZER;CN="Kansas Suicide Prevention Coalition":MAILTO:coalition@hqkansas.org
END:VEVENT
END:VCALENDAR